BEGIN:VCALENDAR
VERSION:2.0
PRODID:https://www.coesia.com
X-PUBLISHED-TTL:P1W
BEGIN:VEVENT
UID:69ea69f529a6e
DTSTART;VALUE=DATE:20180529
SEQUENCE:0
TRANSP:OPAQUE
DTEND;VALUE=DATE:20180602
URL:https://www.coesia.com/en/exhibitions/ipack-ima
LOCATION:Milan\, Italy
SUMMARY:Ipack Ima
CLASS:PUBLIC
X-ALT-DESC;FMTTYPE=text/html:<p>Hapa will be present at Ipack Ima. For more
  information <a href=\"http://www.ipackima.com/\">click here.</a></p>\n\, 
 coesia_editor_manager
X-MICROSOFT-CDO-ALLDAYEVENT:TRUE
DTSTAMP:20260423T205029Z
END:VEVENT
END:VCALENDAR