BEGIN:VCALENDAR
VERSION:2.0
PRODID:https://www.coesia.com
X-PUBLISHED-TTL:P1W
BEGIN:VEVENT
UID:69ea69eaf3ede
DTSTART;VALUE=DATE:20180522
SEQUENCE:0
TRANSP:OPAQUE
DTEND;VALUE=DATE:20180525
URL:https://www.coesia.com/en/exhibitions/fce
LOCATION:São Paulo\, Brazil
SUMMARY:FCE
CLASS:PUBLIC
X-ALT-DESC;FMTTYPE=text/html:<p>Citus Kalix and Norden will be present at F
 CE. For more information <a href=\"https://www.fcepharma.com.br/en\">click
  here</a>.</p>\n\, coesia_editor_manager
X-MICROSOFT-CDO-ALLDAYEVENT:TRUE
DTSTAMP:20260423T205019Z
END:VEVENT
END:VCALENDAR