BEGIN:VCALENDAR
VERSION:2.0
PRODID:https://www.coesia.com
X-PUBLISHED-TTL:P1W
BEGIN:VEVENT
UID:69ea6a445569e
DTSTART;VALUE=DATE:20180417
SEQUENCE:0
TRANSP:OPAQUE
DTEND;VALUE=DATE:20180420
URL:https://www.coesia.com/en/exhibitions/cheese-tech-expo
LOCATION:Milwaukee\, United States
SUMMARY:Cheese Tech Expo
CLASS:PUBLIC
X-ALT-DESC;FMTTYPE=text/html:<p>FlexLink will be present at Cheese Tech Exp
 o. For more information <a href=\"http://www.cheeseexpo.org/\">click here<
 /a>.</p>\n\, coesia_editor_manager
X-MICROSOFT-CDO-ALLDAYEVENT:TRUE
DTSTAMP:20260423T205148Z
END:VEVENT
END:VCALENDAR