BEGIN:VCALENDAR
VERSION:2.0
PRODID:https://www.coesia.com
X-PUBLISHED-TTL:P1W
BEGIN:VEVENT
UID:69ea5154978da
DTSTART;VALUE=DATE:20180416
SEQUENCE:0
TRANSP:OPAQUE
DTEND;VALUE=DATE:20180419
URL:https://www.coesia.com/en/exhibitions/pack-expo-east-1
LOCATION:Philadelphia\, United states
SUMMARY:Pack Expo East
CLASS:PUBLIC
X-ALT-DESC;FMTTYPE=text/html:<p>FlexLink will be present at Pack Expo East.
  For more information <a href=\"https://www.packexpoeast.com/\">click here
 </a>.</p>\n\, coesia_editor_manager
X-MICROSOFT-CDO-ALLDAYEVENT:TRUE
DTSTAMP:20260423T190524Z
END:VEVENT
END:VCALENDAR