BEGIN:VCALENDAR
VERSION:2.0
PRODID:https://www.coesia.com
X-PUBLISHED-TTL:P1W
BEGIN:VEVENT
UID:69ea6a14632ac
DTSTART;VALUE=DATE:20180417
SEQUENCE:0
TRANSP:OPAQUE
DTEND;VALUE=DATE:20180420
URL:https://www.coesia.com/en/exhibitions/interphex
LOCATION:New York\, USA
SUMMARY:Interphex
CLASS:PUBLIC
X-ALT-DESC;FMTTYPE=text/html:<p><a href=\"http://www.gfe.it/en\">GF</a>\, a
  Coesia Group Company\, is a world-leading supplier of high technology and
  quality automatic filling and inspection machines for traditional\, asept
 ic\, and innovative pharmaceutical applications. GF continuously invests i
 n R&amp\;D and engineering excellence to provide state-of-the-art products
  and to improve its strategy to be a one-stop producer of complete solutio
 ns in the pharmaceutical field. Short time-to-market responses\, synergies
  between Group Companies' competences and specific knowledge are distincti
 ve GF qualities making it an international reference for the pharmaceutica
 l industry.</p>\n\n<p>To get a better understanding of its offering&nbsp\;
 visit GF at <a href=\"http://www.interphex.com/\">Interphex</a>: GF collea
 gues together with <a href=\"http://acicmachinery.com/information-events/t
 rade-shows-and-events/\">ACIC Machinery</a> agent will be glad to meet you
 .<br />\nWith its combination of Technical Conference\, Exhibits\, Demonst
 rations\, Business Opportunities\, and Networking Events\, INTERPHEX is th
 e perfect recipe for the audiences’ needs in order to discover new high 
 technologies in pharmaceutical\, biotechnology\, and device developing and
  manufacturing. To schedule an appointment\, please <a href=\"mailto:marke
 ting@gfe.it\" title=\"Coesia - Interphex\">click here</a>!</p>\n\n<p><a hr
 ef=\"http://www.gfe.it/en/solutions\">Click here</a> to explore GF portfol
 io and check <a href=\"http://www.gfe.it/en/exhibitions\">GF 2018 agenda</
 a> for 2018 for more information!</p>\n\, coesia_editor_manager
X-MICROSOFT-CDO-ALLDAYEVENT:TRUE
DTSTAMP:20260423T205100Z
END:VEVENT
END:VCALENDAR